BEGIN:VCALENDAR
VERSION:2.0
PRODID:-//Jamaica Run Golf Course - ECPv6.15.18//NONSGML v1.0//EN
CALSCALE:GREGORIAN
METHOD:PUBLISH
X-ORIGINAL-URL:https://www.jamaicarun.com
X-WR-CALDESC:Events for Jamaica Run Golf Course
REFRESH-INTERVAL;VALUE=DURATION:PT1H
X-Robots-Tag:noindex
X-PUBLISHED-TTL:PT1H
BEGIN:VTIMEZONE
TZID:UTC
BEGIN:STANDARD
TZOFFSETFROM:+0000
TZOFFSETTO:+0000
TZNAME:UTC
DTSTART:20250101T000000
END:STANDARD
END:VTIMEZONE
BEGIN:VEVENT
DTSTART;TZID=UTC:20260424T080000
DTEND;TZID=UTC:20260424T210000
DTSTAMP:20260424T204619
CREATED:20260403T142652Z
LAST-MODIFIED:20260403T142652Z
UID:10000140-1777017600-1777064400@www.jamaicarun.com
SUMMARY:$1.50 Beer
DESCRIPTION:Every Friday. Stop by after a great round of golf.
URL:https://www.jamaicarun.com/event/1-50-beer/2026-04-24/
CATEGORIES:Specials
ATTACH;FMTTYPE=image/jpeg:https://www.jamaicarun.com/wp-content/uploads/sites/5470/2026/04/membership.jpg
END:VEVENT
BEGIN:VEVENT
DTSTART;TZID=UTC:20260427T080000
DTEND;TZID=UTC:20260427T170000
DTSTAMP:20260424T204619
CREATED:20260403T141530Z
LAST-MODIFIED:20260403T141530Z
UID:10000004-1777276800-1777309200@www.jamaicarun.com
SUMMARY:$25 Golf All Day
DESCRIPTION:
URL:https://www.jamaicarun.com/event/25-golf-all-day/2026-04-27/
CATEGORIES:Specials
ATTACH;FMTTYPE=image/jpeg:https://www.jamaicarun.com/wp-content/uploads/sites/5470/2026/04/test.jpg
END:VEVENT
BEGIN:VEVENT
DTSTART;TZID=UTC:20260428T080000
DTEND;TZID=UTC:20260428T170000
DTSTAMP:20260424T204619
CREATED:20260403T142036Z
LAST-MODIFIED:20260403T142036Z
UID:10000056-1777363200-1777395600@www.jamaicarun.com
SUMMARY:$25 Golf All Day
DESCRIPTION:
URL:https://www.jamaicarun.com/event/25-golf-all-day-2/2026-04-28/
CATEGORIES:Specials
ATTACH;FMTTYPE=image/jpeg:https://www.jamaicarun.com/wp-content/uploads/sites/5470/2026/04/test.jpg
END:VEVENT
BEGIN:VEVENT
DTSTART;TZID=UTC:20260428T160000
DTEND;TZID=UTC:20260428T180000
DTSTAMP:20260424T204619
CREATED:20260403T142340Z
LAST-MODIFIED:20260403T142340Z
UID:10000109-1777392000-1777399200@www.jamaicarun.com
SUMMARY:Jamaica Run Golf League
DESCRIPTION:Visit our leagues page to learn more.
URL:https://www.jamaicarun.com/event/jamaica-run-golf-league/2026-04-28/
CATEGORIES:Leagues
ATTACH;FMTTYPE=image/png:https://www.jamaicarun.com/wp-content/uploads/sites/5470/2026/04/jrleagues.png
END:VEVENT
END:VCALENDAR